BEGIN:VCALENDAR
VERSION:2.0
PRODID:-//okuma.space - ECPv6.15.13.1//NONSGML v1.0//EN
CALSCALE:GREGORIAN
METHOD:PUBLISH
X-WR-CALNAME:okuma.space
X-ORIGINAL-URL:https://okuma.space/hu
X-WR-CALDESC:Események okuma.space
REFRESH-INTERVAL;VALUE=DURATION:PT1H
X-Robots-Tag:noindex
X-PUBLISHED-TTL:PT1H
BEGIN:VTIMEZONE
TZID:Europe/Budapest
BEGIN:DAYLIGHT
TZOFFSETFROM:+0100
TZOFFSETTO:+0200
TZNAME:CEST
DTSTART:20250330T010000
END:DAYLIGHT
BEGIN:STANDARD
TZOFFSETFROM:+0200
TZOFFSETTO:+0100
TZNAME:CET
DTSTART:20251026T010000
END:STANDARD
BEGIN:DAYLIGHT
TZOFFSETFROM:+0100
TZOFFSETTO:+0200
TZNAME:CEST
DTSTART:20260329T010000
END:DAYLIGHT
BEGIN:STANDARD
TZOFFSETFROM:+0200
TZOFFSETTO:+0100
TZNAME:CET
DTSTART:20261025T010000
END:STANDARD
BEGIN:DAYLIGHT
TZOFFSETFROM:+0100
TZOFFSETTO:+0200
TZNAME:CEST
DTSTART:20270328T010000
END:DAYLIGHT
BEGIN:STANDARD
TZOFFSETFROM:+0200
TZOFFSETTO:+0100
TZNAME:CET
DTSTART:20271031T010000
END:STANDARD
END:VTIMEZONE
BEGIN:VEVENT
DTSTART;TZID=Europe/Budapest:20260221T100000
DTEND;TZID=Europe/Budapest:20260221T210000
DTSTAMP:20260422T041942
CREATED:20260127T032252Z
LAST-MODIFIED:20260127T032252Z
UID:10000021-1771668000-1771707600@okuma.space
SUMMARY:A Self-Guided Tea Journey at Teahōm
DESCRIPTION:Workshop\n				\n				\n									\n				\n					Tea & Csoki - Vezetett Kóstoló				\n				\n									at Okūma  								\n				\n				\n					\n		\n			április 25\n\n	\n\n	 @ \n\n\n10:00 de.\n\n		\n\n\n\n	\n	 - \n\n1:00 du.\n\n\n\n	\n				\n				\n				\n									\n				\n									Amikor a tea találkozik a csokoládéval\, az ízlelés a kontraszt és az összhang játékterévé válik. Csatlakozz hozzánk egy szakértő által vezetett kóstolón\, ahol minden párosítás feltárja az ízek rejtett logikáját — a finom harmóniától a váratlan feszültségig. 								\n				\n				\n					\n	\n\n		\n		\n		\n\n		\n\n\n		\n\n\n\n	Tickets\n\n		\n	\n	\n		The numbers below include tickets for this event already in your cart. Clicking "Get Tickets" will allow you to edit any existing attendee information as well as change ticket quantities.	\n\n\n		\n\n	\n		\n				Workshop Ticket	\n\n\n\n	\n		\n		\n					\n						13 700\,00\n						Ft\n					\n							\n\n\n	\n\n\n	\n	\n\n\n	\n\n\n	\n						\n	Decrease ticket quantity for Workshop Ticket\n	-\n				\n\n	\n		Quantity	\n	\n\n					\n	Increase ticket quantity for Workshop Ticket\n	+\n			\n\n	\n		\n	\n\n\n		\n\n	\n	\n	\n		Quantity:	\n	0\n\n\n	\n	\n		Total:	\n	\n		\n					\n						0\,00\n						Ft\n					\n					\n\n\n	Szerezd meg Tickets\n\n		\n			\n\n\n		\n		\n	\n	\n\n	\n	\n\n	\n	\n\n\n\n			\n\n	\n\n\n				\n				\n					\n		\n					\n		\n				\n						\n					\n			\n						\n					Az eseményről				\n				\n					Program áttekintés				\n				\n									Van az a pillanat\, amikor egy korty tea és egy falat csokoládé találkozásából valami egészen új születik. Erre a különleges felfedezésre hívunk az Okumába. Egy hivatásos csokoládékóstoló segítségével merülünk el az ízek világában\, ahol gondosan összeválogatott teák és kézműves csokoládék dinamikáját vizsgáljuk. Megnézzük\, miért válnak eggyé\, vagy éppen miért feszülnek egymásnak az ízjegyek. 								\n					\n		\n				\n			\n						\n					Miröl lesz szó?				\n				\n									Ízek és aromák: Hogyan ismerjük fel a rejtett tónusokat? Eredet és karakter: Hogyan befolyásolja a terroir (a termőhely) a kakaóbabot és a tealevelet? Párosítási logika: Mi a titka a tökéletes harmóniának? Egy kis ízelítő: Az este során többek között kiderül\, mi történik\, ha egy élénk\, tengeri fuvallatokat idéző japán sencha találkozik egy selymes málnás fehercsokoládéval. A többi párosítást egyelőre fedje jótékony homály… Amit hozz magaddal: Kíváncsiságot és nyitottsagot 								\n					\n		\n					\n		\n				\n						\n					\n			\n						\n					Mikor & hol				\n				\n					Részletek				\n				\n					Belépés az épületbeSzemélyes belépőkódot fogsz kapniA foglalás befejezése után e-mailben és/vagy SMS-ben elküldjük a személyes kódot az épületbe való belépéshez. Nem szükséges csöngetni.				\n					\n		\n				\n			\n						\n							\n			\n		\n						\n				\n					Open on Google maps				\n				\n					Getting hereMetroM1 Vörösmarty utca — 4 min walkTram 4 & 6\, Király utca / Erzsébet körútBus11 — Vörösmarty utca stopParkingStreet parking available				\n					\n		\n					\n		\n				\n						\n					\n			\n						\n					Jegyek				\n				\n					Foglaljhelyet.				\n				\n									Kérjük\, foglalj online. Fizethetsz online vagy a helyszínen kártyával vagy készpénzzel. 								\n					\n		\n				\n			\n						\n					Foglalás & lemondásFoglalásOnline a foglalási rendszerünkön keresztül. A visszaigazolást e-mailben küldjük.BelépőkódA foglalás után e-mailben és/vagy SMS-ben elküldjük a személyes belépési kódot.FizetésOnline bankkártyával\, vagy a helyszínen bankkártyával vagy készpénzzel.KapacitásMaximum 30 fő. A foglalás biztosítja a helyed.Kérdésekhello@okuma.space vagy DM @okuma.space				\n					\n		\n					\n		\n				\n						\n					\n			\n						\n					More events				\n				\n					What else is on.				\n				\n							\n			\n		\n						\n				\n				\n					\n	\n		\n\n			\n			\n\n			\n			\n				\n											\n\n	\n	\n		\n			ápr		\n		\n			24		\n	\n\n\n	\n		\n			\n\n				\n					\n		\n		6:00 du. - 9:00 du.	\n	\n					\n	\n		Friday Sobers: The Tea Social	\n\n				\n\n				\n			\n		\n	\n\n\n											\n\n	\n	\n		\n			ápr		\n		\n			25		\n	\n\n\n	\n		\n			\n\n				\n					\n		\n		10:00 de. - 1:00 du.	\n	\n					\n	\n		Tea & Cholocate – A Guided Tasting	\n\n				\n\n				\n			\n		\n	\n\n\n									\n\n				\n	\n		Naptár megtekintése	\n\n\n					\n	\n\n\n				\n				\n				\n					See all events				\n					\n		\n					\n		\n				\n						\n					\n			\n						\n					Látogass el hozzánk bármelyik hétvégén				\n				\n					Nincs esemény?\nCsak gyere.				\n					\n		\n				\n			\n						\n									Térj be egy à la carte teára\, vagy foglalj egy Tea Journey élményt pénteken\, szombaton vagy vasárnap 13:00 és 19:00 között. Nincs szükség jegyre — csak foglald le a helyed. 								\n				\n					Foglalj helyet				\n				\n					Nyitva P–V · 13:00–19:00 · Vörösmarty utca 19/A · Budapest 				\n					\n		\n					\n		\n				\n						\n					\n			\n						\n					Follow the ritual — @okuma.space				\n					\n		\n				\n			\n						\n					Instagram →Facebook →
URL:https://teahom.resos.com
END:VEVENT
END:VCALENDAR