BEGIN:VCALENDAR
VERSION:2.0
PRODID:-//okuma.space - ECPv6.15.13.1//NONSGML v1.0//EN
CALSCALE:GREGORIAN
METHOD:PUBLISH
X-WR-CALNAME:okuma.space
X-ORIGINAL-URL:https://okuma.space/hu
X-WR-CALDESC:Események okuma.space
REFRESH-INTERVAL;VALUE=DURATION:PT1H
X-Robots-Tag:noindex
X-PUBLISHED-TTL:PT1H
BEGIN:VTIMEZONE
TZID:Europe/Budapest
BEGIN:DAYLIGHT
TZOFFSETFROM:+0100
TZOFFSETTO:+0200
TZNAME:CEST
DTSTART:20250330T010000
END:DAYLIGHT
BEGIN:STANDARD
TZOFFSETFROM:+0200
TZOFFSETTO:+0100
TZNAME:CET
DTSTART:20251026T010000
END:STANDARD
BEGIN:DAYLIGHT
TZOFFSETFROM:+0100
TZOFFSETTO:+0200
TZNAME:CEST
DTSTART:20260329T010000
END:DAYLIGHT
BEGIN:STANDARD
TZOFFSETFROM:+0200
TZOFFSETTO:+0100
TZNAME:CET
DTSTART:20261025T010000
END:STANDARD
BEGIN:DAYLIGHT
TZOFFSETFROM:+0100
TZOFFSETTO:+0200
TZNAME:CEST
DTSTART:20270328T010000
END:DAYLIGHT
BEGIN:STANDARD
TZOFFSETFROM:+0200
TZOFFSETTO:+0100
TZNAME:CET
DTSTART:20271031T010000
END:STANDARD
END:VTIMEZONE
BEGIN:VEVENT
DTSTART;TZID=Europe/Budapest:20260425T100000
DTEND;TZID=Europe/Budapest:20260425T130000
DTSTAMP:20260422T023832
CREATED:20260403T071347Z
LAST-MODIFIED:20260403T072323Z
UID:10000032-1777111200-1777122000@okuma.space
SUMMARY:Tea & Cholocate - A Guided Tasting
DESCRIPTION:Workshop \nTea & Chocolate – a Guided Tasting\n\n		at Okūma \n  \n			April 25\n	 @\n10:00 am\n	 –\n1:00 pm \nWhen tea meets chocolate\, the palate becomes a playground of contrast and resonance. Join us for an expert-led tasting where each pairing unveils the hidden logic of flavour — from delicate harmony to unexpected friction. \nAmikor a tea találkozik a csokoládéval\, az ízlelés a kontraszt és az összhang játékterévé válik. Csatlakozz hozzánk egy szakértő által vezetett kóstolón\, ahol minden párosítás feltárja az ízek rejtett logikáját — a finom harmóniától a váratlan feszültségig. \n\n		\n		\n		\n		\n \n\n	Tickets\n		The numbers below include tickets for this event already in your cart. Clicking “Get Tickets” will allow you to edit any existing attendee information as well as change ticket quantities.\n				Workshop Ticket\n						13 700\,00\n						Ft\n	 10  available\n						\n	Decrease ticket quantity for Workshop Ticket\n	–\n	\n		Quantity	\n	\n					\n	Increase ticket quantity for Workshop Ticket\n	+\n		\n		Quantity:\n	0\n		Total:\n						0\,00\n						Ft\n	Get Tickets\n	\n	\n\n	\n	\n\n	\n	\n\n			\n					About this event					 \nProgram Overview\nThere are moments when a sip of tea and a piece of chocolate meet — and something entirely new is born.We invite you to discover that magic at Okuma. Together with a professional chocolate taster\, we’ll dive into a world of flavour\, exploring the dynamics between carefully selected teas and artisan chocolates. We’ll uncover why certain notes merge into perfect harmony — and why others push back against each other. \nWhat we’ll explore\nFlavours & Aromas – How do we recognise the hidden tones?Origin & Character – How does terroir (the growing environment) shape both the cacao bean and the tea leaf?The Logic of Pairing – What’s the secret behind a truly harmonious match?A little teaser:During the evening\, among other things\, we’ll discover what happens when a vibrant Japanese sencha — full of oceanic\, fresh notes — meets a silky white chocolate with a hint of raspberry. The rest of the pairings remain deliciously shrouded in mystery…What to bring: Curiosity and an open mind. \n			Az eseményről					 \nProgram áttekintés\nVan az a pillanat\, amikor egy korty tea és egy falat csokoládé találkozásából valami egészen új születik. \nErre a különleges felfedezésre hívunk az Okumába. Egy hivatásos csokoládékóstoló segítségével merülünk el az ízek világában\, ahol gondosan összeválogatott teák és kézműves csokoládék dinamikáját vizsgáljuk. Megnézzük\, miért válnak eggyé\, vagy éppen miért feszülnek egymásnak az ízjegyek. \nMiröl lesz szó?\nÍzek és aromák: Hogyan ismerjük fel a rejtett tónusokat? \nEredet és karakter: Hogyan befolyásolja a terroir (a termőhely) a kakaóbabot és a tealevelet? \nPárosítási logika: Mi a titka a tökéletes harmóniának? \nEgy kis ízelítő: \nAz este során többek között kiderül\, mi történik\, ha egy élénk\, tengeri fuvallatokat idéző japán sencha találkozik egy selymes málnás fehercsokoládéval. A többi párosítást egyelőre fedje jótékony homály… \nAmit hozz magaddal: Kíváncsiságot és nyitottsagot \n			When & where					 \nThe details.\n					Entry to the buildingYou’ll receive a personal entry codeAfter completing your booking\, a personal code to access the building will be sent to you by email and/or SMS. No need to ring the bell.\n			\n							Open on Google maps					Getting hereMetroM1 Vörösmarty utca — 4 min walkTram 4 & 6\, Király utca / Erzsébet körútBus11 — Vörösmarty utca stopParkingStreet parking available					Mikor & hol					 \nRészletek\n					Belépés az épületbeSzemélyes belépőkódot fogsz kapniA foglalás befejezése után e-mailben és/vagy SMS-ben elküldjük a személyes kódot az épületbe való belépéshez. Nem szükséges csöngetni.\n			\n							Open on Google maps					Getting hereMetroM1 Vörösmarty utca — 4 min walkTram 4 & 6\, Király utca / Erzsébet körútBus11 — Vörösmarty utca stopParkingStreet parking available					Tickets					 \nSecure yourseat.\nPlease book online. You can pay online or on site by card or cash. \n			Booking & cancellationBookingOnline via our booking system. Confirmation sent by email.Entry codePersonal building access code sent after booking by email and/or SMS.PaymentOnline by card\, or on site by card or cash.CapacityLimited to 30 people. Booking guarantees your spot.Questionshello@okuma.space or DM @okuma.space					Jegyek					 \nFoglaljhelyet.\nKérjük\, foglalj online. Fizethetsz online vagy a helyszínen kártyával vagy készpénzzel. \n			Foglalás & lemondásFoglalásOnline a foglalási rendszerünkön keresztül. A visszaigazolást e-mailben küldjük.BelépőkódA foglalás után e-mailben és/vagy SMS-ben elküldjük a személyes belépési kódot.FizetésOnline bankkártyával\, vagy a helyszínen bankkártyával vagy készpénzzel.KapacitásMaximum 30 fő. A foglalás biztosítja a helyed.Kérdésekhello@okuma.space vagy DM @okuma.space					More events					 \nWhat else is on.\n	\n			Apr\n			11\n	 \n\n\n		\n		10:00 am – 12:30 pm	 \n\n	\n		Gong Fu Cha — A Beginner’s Tea Ritual	\n\n\n\n	\n			Apr\n			17\n	 \n\n\n		\n		6:00 pm – 9:00 pm	 \n\n	\n		The Tea Affair – Nomos Kitchen x Okūma	\n\n\n\n	\n			Apr\n			19\n	 \n\n\n		\n		10:00 am – 1:00 pm	 \n\n	\n		Matcha Ceremony – by Bereczki József	\n\n\n\n	\n			Apr\n			24\n	 \n\n\n		\n		6:00 pm – 9:00 pm	 \n\n	\n		Friday Sobers: The Tea Social	\n\n\n\n	\n			Apr\n			25\n	 \n\n\n		\n		10:00 am – 1:00 pm	 \n\n	\n		Tea & Cholocate – A Guided Tasting	\n\n\n\n	\n		View Calendar	\n					See all events					Visit us any weekend					 \nNo event?Just come.\nDrop in for à la carte teas or book a Tea Journey any Friday\, Saturday or Sunday between 12:00 and 18:00. No ticket needed — just reserve your seat. \n			Reserve a seat					 \nOpen Fri–Sun · 12:00–18:00 · Vörösmarty utca 19/A · Budapest \n					Látogass el hozzánk bármelyik hétvégén					 \nNincs esemény?\nCsak gyere.\nTérj be egy à la carte teára\, vagy foglalj egy Tea Journey élményt pénteken\, szombaton vagy vasárnap 13:00 és 19:00 között. Nincs szükség jegyre — csak foglald le a helyed. \n			Foglalj helyet					 \nNyitva P–V · 13:00–19:00 · Vörösmarty utca 19/A · Budapest \n					Follow the ritual — @okuma.space					Instagram →Facebook →
URL:https://okuma.space/hu/event/tea-cholocate-a-guided-tasting/
END:VEVENT
END:VCALENDAR