BEGIN:VCALENDAR
VERSION:2.0
PRODID:-//okuma.space - ECPv6.15.13.1//NONSGML v1.0//EN
CALSCALE:GREGORIAN
METHOD:PUBLISH
X-ORIGINAL-URL:https://okuma.space
X-WR-CALDESC:Events for okuma.space
REFRESH-INTERVAL;VALUE=DURATION:PT1H
X-Robots-Tag:noindex
X-PUBLISHED-TTL:PT1H
BEGIN:VTIMEZONE
TZID:Europe/Budapest
BEGIN:DAYLIGHT
TZOFFSETFROM:+0100
TZOFFSETTO:+0200
TZNAME:CEST
DTSTART:20250330T010000
END:DAYLIGHT
BEGIN:STANDARD
TZOFFSETFROM:+0200
TZOFFSETTO:+0100
TZNAME:CET
DTSTART:20251026T010000
END:STANDARD
BEGIN:DAYLIGHT
TZOFFSETFROM:+0100
TZOFFSETTO:+0200
TZNAME:CEST
DTSTART:20260329T010000
END:DAYLIGHT
BEGIN:STANDARD
TZOFFSETFROM:+0200
TZOFFSETTO:+0100
TZNAME:CET
DTSTART:20261025T010000
END:STANDARD
BEGIN:DAYLIGHT
TZOFFSETFROM:+0100
TZOFFSETTO:+0200
TZNAME:CEST
DTSTART:20270328T010000
END:DAYLIGHT
BEGIN:STANDARD
TZOFFSETFROM:+0200
TZOFFSETTO:+0100
TZNAME:CET
DTSTART:20271031T010000
END:STANDARD
END:VTIMEZONE
BEGIN:VEVENT
DTSTART;TZID=Europe/Budapest:20260419T100000
DTEND;TZID=Europe/Budapest:20260419T130000
DTSTAMP:20260421T230955
CREATED:20260327T115448Z
LAST-MODIFIED:20260401T144331Z
UID:10000029-1776592800-1776603600@okuma.space
SUMMARY:Matcha Ceremony - by Bereczki József
DESCRIPTION:Workshop\n				\n				\n					Tea & Chocolate - a Guided Tasting				\n				\n									\n				\n									at Okūma  								\n				\n				\n					\n		\n			April 25\n\n	\n\n	 @ \n\n\n10:00 am\n\n		\n\n\n\n	\n	 - \n\n1:00 pm\n\n\n\n	\n				\n				\n				\n									When tea meets chocolate\, the palate becomes a playground of contrast and resonance. Join us for an expert-led tasting where each pairing unveils the hidden logic of flavour — from delicate harmony to unexpected friction. 								\n				\n									\n				\n				\n					\n	\n\n		\n		\n		\n\n		\n\n\n		\n\n\n\n	Tickets\n\n		\n	\n	\n		The numbers below include tickets for this event already in your cart. Clicking "Get Tickets" will allow you to edit any existing attendee information as well as change ticket quantities.	\n\n\n		\n\n	\n		\n				Workshop Ticket	\n\n\n\n	\n		\n		\n					\n						13 700\,00\n						Ft\n					\n							\n\n\n	\n\n\n	\n	\n\n\n	\n\n\n	\n						\n	Decrease ticket quantity for Workshop Ticket\n	-\n				\n\n	\n		Quantity	\n	\n\n					\n	Increase ticket quantity for Workshop Ticket\n	+\n			\n\n	\n		\n	\n\n\n		\n\n	\n	\n	\n		Quantity:	\n	0\n\n\n	\n	\n		Total:	\n	\n		\n					\n						0\,00\n						Ft\n					\n					\n\n\n	Get Tickets\n\n		\n			\n\n\n		\n		\n	\n	\n\n	\n	\n\n	\n	\n\n\n\n			\n\n	\n\n\n				\n				\n					\n		\n					\n		\n				\n						\n					\n			\n						\n					About this event				\n				\n					Program Overview				\n				\n									There are moments when a sip of tea and a piece of chocolate meet — and something entirely new is born.We invite you to discover that magic at Okuma. Together with a professional chocolate taster\, we’ll dive into a world of flavour\, exploring the dynamics between carefully selected teas and artisan chocolates. We’ll uncover why certain notes merge into perfect harmony — and why others push back against each other. 								\n					\n		\n				\n			\n						\n					What we'll explore				\n				\n									Flavours & Aromas – How do we recognise the hidden tones?Origin & Character – How does terroir (the growing environment) shape both the cacao bean and the tea leaf?The Logic of Pairing – What’s the secret behind a truly harmonious match?A little teaser:During the evening\, among other things\, we’ll discover what happens when a vibrant Japanese sencha — full of oceanic\, fresh notes — meets a silky white chocolate with a hint of raspberry. The rest of the pairings remain deliciously shrouded in mystery…What to bring: Curiosity and an open mind. 								\n					\n		\n					\n		\n				\n						\n					\n			\n						\n					When & where				\n				\n					The details.				\n				\n					Entry to the buildingYou'll receive a personal entry codeAfter completing your booking\, a personal code to access the building will be sent to you by email and/or SMS. No need to ring the bell.				\n					\n		\n				\n			\n						\n							\n			\n		\n						\n				\n					Open on Google maps				\n				\n					Getting hereMetroM1 Vörösmarty utca — 4 min walkTram 4 & 6\, Király utca / Erzsébet körútBus11 — Vörösmarty utca stopParkingStreet parking available				\n					\n		\n					\n		\n				\n						\n					\n			\n						\n					More events				\n				\n					What else is on.				\n				\n							\n			\n		\n						\n				\n				\n					\n	\n		\n\n			\n			\n\n			\n			\n				\n											\n\n	\n	\n		\n			Apr		\n		\n			24		\n	\n\n\n	\n		\n			\n\n				\n					\n		\n		6:00 pm - 9:00 pm	\n	\n					\n	\n		Friday Sobers: The Tea Social	\n\n				\n\n				\n			\n		\n	\n\n\n											\n\n	\n	\n		\n			Apr		\n		\n			25		\n	\n\n\n	\n		\n			\n\n				\n					\n		\n		10:00 am - 1:00 pm	\n	\n					\n	\n		Tea & Cholocate – A Guided Tasting	\n\n				\n\n				\n			\n		\n	\n\n\n									\n\n				\n	\n		View Calendar	\n\n\n					\n	\n\n\n				\n				\n				\n					See all events				\n					\n		\n					\n		\n				\n						\n					\n			\n						\n					Visit us any weekend				\n				\n					No event?Just come.				\n					\n		\n				\n			\n						\n									Drop in for à la carte teas or book a Tea Journey any Friday\, Saturday or Sunday between 12:00 and 18:00. No ticket needed — just reserve your seat. 								\n				\n					Reserve a seat				\n				\n					Open Fri–Sun · 12:00–18:00 · Vörösmarty utca 19/A · Budapest 				\n					\n		\n					\n		\n				\n						\n					\n			\n						\n					Follow the ritual — @okuma.space				\n					\n		\n				\n			\n						\n					Instagram →Facebook →
URL:https://okuma.space/event/matcha-ceremony-by-bereczki-jozsef-2/
END:VEVENT
END:VCALENDAR